BEGIN:VCALENDAR
VERSION:2.0
PRODID:-//The House of the Seven Gables - ECPv6.15.20//NONSGML v1.0//EN
CALSCALE:GREGORIAN
METHOD:PUBLISH
X-ORIGINAL-URL:https://7gables.org
X-WR-CALDESC:Events for The House of the Seven Gables
REFRESH-INTERVAL;VALUE=DURATION:PT1H
X-Robots-Tag:noindex
X-PUBLISHED-TTL:PT1H
BEGIN:VTIMEZONE
TZID:America/New_York
BEGIN:DAYLIGHT
TZOFFSETFROM:-0500
TZOFFSETTO:-0400
TZNAME:EDT
DTSTART:20230312T070000
END:DAYLIGHT
BEGIN:STANDARD
TZOFFSETFROM:-0400
TZOFFSETTO:-0500
TZNAME:EST
DTSTART:20231105T060000
END:STANDARD
BEGIN:DAYLIGHT
TZOFFSETFROM:-0500
TZOFFSETTO:-0400
TZNAME:EDT
DTSTART:20240310T070000
END:DAYLIGHT
BEGIN:STANDARD
TZOFFSETFROM:-0400
TZOFFSETTO:-0500
TZNAME:EST
DTSTART:20241103T060000
END:STANDARD
BEGIN:DAYLIGHT
TZOFFSETFROM:-0500
TZOFFSETTO:-0400
TZNAME:EDT
DTSTART:20250309T070000
END:DAYLIGHT
BEGIN:STANDARD
TZOFFSETFROM:-0400
TZOFFSETTO:-0500
TZNAME:EST
DTSTART:20251102T060000
END:STANDARD
END:VTIMEZONE
BEGIN:VEVENT
DTSTART;TZID=America/New_York:20240502T180000
DTEND;TZID=America/New_York:20240502T190000
DTSTAMP:20260421T200009
CREATED:20240314T181211Z
LAST-MODIFIED:20240314T182135Z
UID:20295-1714672800-1714676400@7gables.org
SUMMARY:Salem to Rome: William Wetmore Story\, Louisa Lander\, Sophia and Nathaniel Hawthorne and Sculptural Controversy
DESCRIPTION:During the 1850s\, American artists and writers formed a community in Rome. Among them were Salem-born William Wetmore Story\, Louisa Lander\, and Sophia and Nathaniel Hawthorne. Story had abandoned his distinguished career as a Boston attorney to become a prolific sculptor. In his Cleopatra and Libyan Sybil\, he sculpted strong\, sensuous\, controversial women and earned international acclaim. Louisa Lander had just begun her career as a sculptor when she met the Hawthornes in Rome. Her provocative marble bust of Nathaniel became a source of scandal and gossip abroad and at home in Salem. \n  \nTickets are $20 for the general public\, and $15 for Gables members. \n  \n> Click here to register <\n  \nAbout the Presenter \n  \n \nPatricia Dunlavy Valenti is Professor Emerita in the Department of English and Foreign Languages at the University of North Carolina at Pembroke. She specializes in women’s studies\, biography\, and 19th-century literature and is author of five books including biographies of Rose Hawthorne Lathrop and Sophia Peabody Hawthorne. Her current project centers on American expatriates in Rome during the 1850s.
URL:https://7gables.org/event/salem-to-rome-lecture/
LOCATION:The House of the Seven Gables\, 115 Derby Street\, Salem\, MA\, 01970\, United States
CATEGORIES:Settlement Programming
ATTACH;FMTTYPE=image/jpeg:https://7gables.org/wp-content/uploads/2024/03/Salem-to-Rome-1920x1080-1.jpg
END:VEVENT
END:VCALENDAR