BEGIN:VCALENDAR
VERSION:2.0
PRODID:-//The House of the Seven Gables - ECPv6.15.20//NONSGML v1.0//EN
CALSCALE:GREGORIAN
METHOD:PUBLISH
X-ORIGINAL-URL:https://7gables.org
X-WR-CALDESC:Events for The House of the Seven Gables
REFRESH-INTERVAL;VALUE=DURATION:PT1H
X-Robots-Tag:noindex
X-PUBLISHED-TTL:PT1H
BEGIN:VTIMEZONE
TZID:America/New_York
BEGIN:DAYLIGHT
TZOFFSETFROM:-0500
TZOFFSETTO:-0400
TZNAME:EDT
DTSTART:20230312T070000
END:DAYLIGHT
BEGIN:STANDARD
TZOFFSETFROM:-0400
TZOFFSETTO:-0500
TZNAME:EST
DTSTART:20231105T060000
END:STANDARD
BEGIN:DAYLIGHT
TZOFFSETFROM:-0500
TZOFFSETTO:-0400
TZNAME:EDT
DTSTART:20240310T070000
END:DAYLIGHT
BEGIN:STANDARD
TZOFFSETFROM:-0400
TZOFFSETTO:-0500
TZNAME:EST
DTSTART:20241103T060000
END:STANDARD
BEGIN:DAYLIGHT
TZOFFSETFROM:-0500
TZOFFSETTO:-0400
TZNAME:EDT
DTSTART:20250309T070000
END:DAYLIGHT
BEGIN:STANDARD
TZOFFSETFROM:-0400
TZOFFSETTO:-0500
TZNAME:EST
DTSTART:20251102T060000
END:STANDARD
END:VTIMEZONE
BEGIN:VEVENT
DTSTART;VALUE=DATE:20240601
DTEND;VALUE=DATE:20240602
DTSTAMP:20260421T051533
CREATED:20201227T224551Z
LAST-MODIFIED:20220606T144220Z
UID:6369-1717200000-1717286399@7gables.org
SUMMARY:Passages of The Past Audio Tour
DESCRIPTION:Experience a more personal history of Salem from the perspectives of the people who don’t make it into the history books. From enslaved people to indentured servants to immigrants fleeing war and looking for opportunity the Derby St. Neighborhood has been a backbone of Salem since its earliest days.\nYour purchase of the audio tour supports The House of the Seven Gables and Intramersive – a local creative and theatrical organization. Thank you to the Salem Cultural Council for supporting the development of this project. \n>> Click here to purchase and download this audio tour <<\n  \n  \n  \nWhat’s The Story? Stories are at the core of what we do at The House of the Seven Gables. They are not just a part of our past\, but also our present and future. In 2021\, we look forward to exploring the lore of our historic site and surrounding community.
URL:https://7gables.org/event/passages-of-the-past-2024-06-01/
CATEGORIES:Salem Event
ATTACH;FMTTYPE=image/jpeg:https://7gables.org/wp-content/uploads/2022/06/IntraTourFacebook_Passages_102020-2.jpg
END:VEVENT
END:VCALENDAR