BEGIN:VCALENDAR
VERSION:2.0
PRODID:-//The House of the Seven Gables - ECPv6.15.20//NONSGML v1.0//EN
CALSCALE:GREGORIAN
METHOD:PUBLISH
X-WR-CALNAME:The House of the Seven Gables
X-ORIGINAL-URL:https://7gables.org
X-WR-CALDESC:Events for The House of the Seven Gables
REFRESH-INTERVAL;VALUE=DURATION:PT1H
X-Robots-Tag:noindex
X-PUBLISHED-TTL:PT1H
BEGIN:VTIMEZONE
TZID:America/New_York
BEGIN:DAYLIGHT
TZOFFSETFROM:-0500
TZOFFSETTO:-0400
TZNAME:EDT
DTSTART:20240310T070000
END:DAYLIGHT
BEGIN:STANDARD
TZOFFSETFROM:-0400
TZOFFSETTO:-0500
TZNAME:EST
DTSTART:20241103T060000
END:STANDARD
BEGIN:DAYLIGHT
TZOFFSETFROM:-0500
TZOFFSETTO:-0400
TZNAME:EDT
DTSTART:20250309T070000
END:DAYLIGHT
BEGIN:STANDARD
TZOFFSETFROM:-0400
TZOFFSETTO:-0500
TZNAME:EST
DTSTART:20251102T060000
END:STANDARD
BEGIN:DAYLIGHT
TZOFFSETFROM:-0500
TZOFFSETTO:-0400
TZNAME:EDT
DTSTART:20260308T070000
END:DAYLIGHT
BEGIN:STANDARD
TZOFFSETFROM:-0400
TZOFFSETTO:-0500
TZNAME:EST
DTSTART:20261101T060000
END:STANDARD
END:VTIMEZONE
BEGIN:VEVENT
DTSTART;TZID=America/New_York:20250514T180000
DTEND;TZID=America/New_York:20250514T190000
DTSTAMP:20260420T233053
CREATED:20250424T164108Z
LAST-MODIFIED:20250424T165044Z
UID:22087-1747245600-1747249200@7gables.org
SUMMARY:Full Moon Yoga
DESCRIPTION:Wild Sea Wellness will be offering monthly yoga classes at The House of the Seven Gables throughout 2025. Be sure to check their website and calendar for details\, dates\, and links to register.\nThe next partnership is scheduled for May 14 at 6:00 p.m.
URL:https://7gables.org/event/full-moon-yoga-may-2025/
LOCATION:The House of the Seven Gables\, 115 Derby Street\, Salem\, MA\, 01970\, United States
CATEGORIES:General Event
ATTACH;FMTTYPE=image/jpeg:https://7gables.org/wp-content/uploads/2025/04/WildSeaWellness-may-2025-1920x1080-1.jpg
END:VEVENT
END:VCALENDAR