BEGIN:VCALENDAR
VERSION:2.0
PRODID:-//The House of the Seven Gables - ECPv6.15.20//NONSGML v1.0//EN
CALSCALE:GREGORIAN
METHOD:PUBLISH
X-ORIGINAL-URL:https://7gables.org
X-WR-CALDESC:Events for The House of the Seven Gables
REFRESH-INTERVAL;VALUE=DURATION:PT1H
X-Robots-Tag:noindex
X-PUBLISHED-TTL:PT1H
BEGIN:VTIMEZONE
TZID:America/New_York
BEGIN:DAYLIGHT
TZOFFSETFROM:-0500
TZOFFSETTO:-0400
TZNAME:EDT
DTSTART:20200308T070000
END:DAYLIGHT
BEGIN:STANDARD
TZOFFSETFROM:-0400
TZOFFSETTO:-0500
TZNAME:EST
DTSTART:20201101T060000
END:STANDARD
BEGIN:DAYLIGHT
TZOFFSETFROM:-0500
TZOFFSETTO:-0400
TZNAME:EDT
DTSTART:20210314T070000
END:DAYLIGHT
BEGIN:STANDARD
TZOFFSETFROM:-0400
TZOFFSETTO:-0500
TZNAME:EST
DTSTART:20211107T060000
END:STANDARD
BEGIN:DAYLIGHT
TZOFFSETFROM:-0500
TZOFFSETTO:-0400
TZNAME:EDT
DTSTART:20220313T070000
END:DAYLIGHT
BEGIN:STANDARD
TZOFFSETFROM:-0400
TZOFFSETTO:-0500
TZNAME:EST
DTSTART:20221106T060000
END:STANDARD
END:VTIMEZONE
BEGIN:VEVENT
DTSTART;TZID=America/New_York:20210920T180000
DTEND;TZID=America/New_York:20210920T190000
DTSTAMP:20260425T110328
CREATED:20210402T224248Z
LAST-MODIFIED:20220606T144118Z
UID:6177-1632160800-1632164400@7gables.org
SUMMARY:Wild Sea Wellness Yoga Partnership
DESCRIPTION:Wild Sea Wellness will be offering monthly yoga classes at The House of the Seven Gables throughout 2021. Be sure to check their website and calendar for details\, dates\, and links to register.\nThe next partnership is scheduled for September 20\, 2021 at 6:00 p.m.\nAll classes are compliant with state and local COVID-19 guidelines. These guidelines are subject to change and will be communicated to you by Wild Sea Wellness.
URL:https://7gables.org/event/wild-sea-wellness-yoga-partnership-10/
LOCATION:MA
CATEGORIES:General Event
ATTACH;FMTTYPE=image/jpeg:https://7gables.org/wp-content/uploads/2022/06/WSW_Web_SEO_Image.jpg
END:VEVENT
END:VCALENDAR