BEGIN:VCALENDAR
VERSION:2.0
PRODID:-//The House of the Seven Gables - ECPv6.15.20//NONSGML v1.0//EN
CALSCALE:GREGORIAN
METHOD:PUBLISH
X-WR-CALNAME:The House of the Seven Gables
X-ORIGINAL-URL:https://7gables.org
X-WR-CALDESC:Events for The House of the Seven Gables
REFRESH-INTERVAL;VALUE=DURATION:PT1H
X-Robots-Tag:noindex
X-PUBLISHED-TTL:PT1H
BEGIN:VTIMEZONE
TZID:America/New_York
BEGIN:DAYLIGHT
TZOFFSETFROM:-0500
TZOFFSETTO:-0400
TZNAME:EDT
DTSTART:20220313T070000
END:DAYLIGHT
BEGIN:STANDARD
TZOFFSETFROM:-0400
TZOFFSETTO:-0500
TZNAME:EST
DTSTART:20221106T060000
END:STANDARD
BEGIN:DAYLIGHT
TZOFFSETFROM:-0500
TZOFFSETTO:-0400
TZNAME:EDT
DTSTART:20230312T070000
END:DAYLIGHT
BEGIN:STANDARD
TZOFFSETFROM:-0400
TZOFFSETTO:-0500
TZNAME:EST
DTSTART:20231105T060000
END:STANDARD
BEGIN:DAYLIGHT
TZOFFSETFROM:-0500
TZOFFSETTO:-0400
TZNAME:EDT
DTSTART:20240310T070000
END:DAYLIGHT
BEGIN:STANDARD
TZOFFSETFROM:-0400
TZOFFSETTO:-0500
TZNAME:EST
DTSTART:20241103T060000
END:STANDARD
END:VTIMEZONE
BEGIN:VEVENT
DTSTART;TZID=America/New_York:20231202T160000
DTEND;TZID=America/New_York:20231202T180000
DTSTAMP:20260422T003816
CREATED:20231116T155347Z
LAST-MODIFIED:20231201T153914Z
UID:19698-1701532800-1701540000@7gables.org
SUMMARY:Flight Into Egypt Reception
DESCRIPTION:Sophia Peabody Hawthorne’s painting “Flight Into Egypt” has been restored and is returning to The House of the Seven Gables! \n  \nOn Saturday December 2 at 4 p.m. there will be a reception with a short presentation about the conservation process and what was learned during it in the Seamans Visitor Center\, followed by an unveiling of the restored work in the parlor of the Turner-Ingersoll Mansion. Period and season-appropriate refreshments will be served. It will be a festive kick-off to the holiday season! This event is free\, but registration is required and donations are encouraged.* \n  \n*All donations will go towards The Gables’ Collections Fund. Suggested donation is $25. \nTHIS EVENT IS SOLD OUT\n> Click here to learn more about “Flight Into Egypt” <\n 
URL:https://7gables.org/event/flight-into-egypt-reception/
LOCATION:The House of the Seven Gables\, 115 Derby Street\, Salem\, MA\, 01970\, United States
CATEGORIES:Development Program
ATTACH;FMTTYPE=image/jpeg:https://7gables.org/wp-content/uploads/2023/11/Flight-into-Egypt-1920x1080-1.jpg
END:VEVENT
END:VCALENDAR