BEGIN:VCALENDAR
VERSION:2.0
PRODID:-//The House of the Seven Gables - ECPv6.15.20//NONSGML v1.0//EN
CALSCALE:GREGORIAN
METHOD:PUBLISH
X-WR-CALNAME:The House of the Seven Gables
X-ORIGINAL-URL:https://7gables.org
X-WR-CALDESC:Events for The House of the Seven Gables
REFRESH-INTERVAL;VALUE=DURATION:PT1H
X-Robots-Tag:noindex
X-PUBLISHED-TTL:PT1H
BEGIN:VTIMEZONE
TZID:America/New_York
BEGIN:DAYLIGHT
TZOFFSETFROM:-0500
TZOFFSETTO:-0400
TZNAME:EDT
DTSTART:20250309T070000
END:DAYLIGHT
BEGIN:STANDARD
TZOFFSETFROM:-0400
TZOFFSETTO:-0500
TZNAME:EST
DTSTART:20251102T060000
END:STANDARD
BEGIN:DAYLIGHT
TZOFFSETFROM:-0500
TZOFFSETTO:-0400
TZNAME:EDT
DTSTART:20260308T070000
END:DAYLIGHT
BEGIN:STANDARD
TZOFFSETFROM:-0400
TZOFFSETTO:-0500
TZNAME:EST
DTSTART:20261101T060000
END:STANDARD
BEGIN:DAYLIGHT
TZOFFSETFROM:-0500
TZOFFSETTO:-0400
TZNAME:EDT
DTSTART:20270314T070000
END:DAYLIGHT
BEGIN:STANDARD
TZOFFSETFROM:-0400
TZOFFSETTO:-0500
TZNAME:EST
DTSTART:20271107T060000
END:STANDARD
END:VTIMEZONE
BEGIN:VEVENT
DTSTART;TZID=America/New_York:20260226T170000
DTEND;TZID=America/New_York:20260226T180000
DTSTAMP:20260420T123626
CREATED:20260113T213852Z
LAST-MODIFIED:20260113T214856Z
UID:23435-1772125200-1772128800@7gables.org
SUMMARY:The Shadows of the Seven Gables
DESCRIPTION:GHOSTS\, CURSES\, AND MURDER!\n  \nEmbrace the spookier side of The House of the Seven Gables with an after-hours candlelit journey through the mansion. Experience the home as it was described by Salem author Nathaniel Hawthorne in his 1851 novel – an old Salem mansion that is haunted by a family curse\, mysterious deaths\, and ghosts of its past. Tickets are $50 for the general public and $40 for Gables members. \n  \n> CLICK HERE TO PURCHASE TICKETS <
URL:https://7gables.org/event/shadows-tour-feb-26/
LOCATION:The House of the Seven Gables\, 115 Derby Street\, Salem\, MA\, 01970\, United States
CATEGORIES:Special Tour
ATTACH;FMTTYPE=image/jpeg:https://7gables.org/wp-content/uploads/2025/10/2025-2-October-Shadows-of-the-Seven-Gables-1920x1080-1.jpg
END:VEVENT
END:VCALENDAR