BEGIN:VCALENDAR
VERSION:2.0
PRODID:-//The House of the Seven Gables - ECPv6.15.20//NONSGML v1.0//EN
CALSCALE:GREGORIAN
METHOD:PUBLISH
X-WR-CALNAME:The House of the Seven Gables
X-ORIGINAL-URL:https://7gables.org
X-WR-CALDESC:Events for The House of the Seven Gables
REFRESH-INTERVAL;VALUE=DURATION:PT1H
X-Robots-Tag:noindex
X-PUBLISHED-TTL:PT1H
BEGIN:VTIMEZONE
TZID:America/New_York
BEGIN:DAYLIGHT
TZOFFSETFROM:-0500
TZOFFSETTO:-0400
TZNAME:EDT
DTSTART:20240310T070000
END:DAYLIGHT
BEGIN:STANDARD
TZOFFSETFROM:-0400
TZOFFSETTO:-0500
TZNAME:EST
DTSTART:20241103T060000
END:STANDARD
BEGIN:DAYLIGHT
TZOFFSETFROM:-0500
TZOFFSETTO:-0400
TZNAME:EDT
DTSTART:20250309T070000
END:DAYLIGHT
BEGIN:STANDARD
TZOFFSETFROM:-0400
TZOFFSETTO:-0500
TZNAME:EST
DTSTART:20251102T060000
END:STANDARD
BEGIN:DAYLIGHT
TZOFFSETFROM:-0500
TZOFFSETTO:-0400
TZNAME:EDT
DTSTART:20260308T070000
END:DAYLIGHT
BEGIN:STANDARD
TZOFFSETFROM:-0400
TZOFFSETTO:-0500
TZNAME:EST
DTSTART:20261101T060000
END:STANDARD
END:VTIMEZONE
BEGIN:VEVENT
DTSTART;TZID=America/New_York:20250727T140000
DTEND;TZID=America/New_York:20250727T160000
DTSTAMP:20260420T221034
CREATED:20250605T183453Z
LAST-MODIFIED:20250605T183725Z
UID:22336-1753624800-1753632000@7gables.org
SUMMARY:The Hawthorne Inheritance: A Talk With Author Kate Blair
DESCRIPTION:Nathaniel Hawthorne’s cousin Kate Blair will offer an entertaining and informative presentation describing and illustrating how she discovered her Hawthorne ancestry\, her subsequent research in libraries and historical houses\, her historical fiction writing process\, the challenging publishing world\, and suggestions for aspiring writers. Through this presentation\, the audience will learn more about the lesser-known family members of Hawthorne’s\, including his sister and her tragic death. After the presentation\, she would be happy to sign books. \n  \nTickets are $25 for the general public and $20 for Gables members. \n  \n\n> Click here to register <\n\n\nAbout the Author \n \nKate Dike Blair is a cousin by marriage of Nathaniel Hawthorne\, and a direct descendant of several of the principal characters in her historical novel\, The Hawthorne Inheritance. She was born and raised in Middlebury Vermont\, where her father founded The Vermont Book Shop. She earned her Diploma in Theater Arts from the Wykeham Rise School\, and her Bachelor of Arts in English Literature from Boston University. After clerking in bookstores in Cambridge and Boston\, she received her Certificate of Medical Assisting from the Bryman School of Boston\, and with two women partners\, created the medical data collection firm Health Research Associates. After qualifying for her Screen Actors Guild and the American Federation of Television and Radio Artists union cards\, Kate worked in over thirty films and television series in the New England area. She now divides her time between writing her next book\, a non-fiction account of her experiences as a film extra\, and acting on stage and screen. She resides with her husband in Wayland\, Massachusetts.
URL:https://7gables.org/event/the-hawthorne-inheritance/
LOCATION:The House of the Seven Gables\, 115 Derby Street\, Salem\, MA\, 01970\, United States
CATEGORIES:Lecture,Salem Event
ATTACH;FMTTYPE=image/jpeg:https://7gables.org/wp-content/uploads/2025/06/The-Hawthorne-Inheritance-1920x1080-1.jpg
END:VEVENT
END:VCALENDAR