BEGIN:VCALENDAR
VERSION:2.0
PRODID:-//The House of the Seven Gables - ECPv6.15.20//NONSGML v1.0//EN
CALSCALE:GREGORIAN
METHOD:PUBLISH
X-ORIGINAL-URL:https://7gables.org
X-WR-CALDESC:Events for The House of the Seven Gables
REFRESH-INTERVAL;VALUE=DURATION:PT1H
X-Robots-Tag:noindex
X-PUBLISHED-TTL:PT1H
BEGIN:VTIMEZONE
TZID:America/New_York
BEGIN:DAYLIGHT
TZOFFSETFROM:-0500
TZOFFSETTO:-0400
TZNAME:EDT
DTSTART:20240310T070000
END:DAYLIGHT
BEGIN:STANDARD
TZOFFSETFROM:-0400
TZOFFSETTO:-0500
TZNAME:EST
DTSTART:20241103T060000
END:STANDARD
BEGIN:DAYLIGHT
TZOFFSETFROM:-0500
TZOFFSETTO:-0400
TZNAME:EDT
DTSTART:20250309T070000
END:DAYLIGHT
BEGIN:STANDARD
TZOFFSETFROM:-0400
TZOFFSETTO:-0500
TZNAME:EST
DTSTART:20251102T060000
END:STANDARD
BEGIN:DAYLIGHT
TZOFFSETFROM:-0500
TZOFFSETTO:-0400
TZNAME:EDT
DTSTART:20260308T070000
END:DAYLIGHT
BEGIN:STANDARD
TZOFFSETFROM:-0400
TZOFFSETTO:-0500
TZNAME:EST
DTSTART:20261101T060000
END:STANDARD
END:VTIMEZONE
BEGIN:VEVENT
DTSTART;TZID=America/New_York:20251212T160000
DTEND;TZID=America/New_York:20251212T200000
DTSTAMP:20260421T114621
CREATED:20251201T223127Z
LAST-MODIFIED:20251205T164627Z
UID:23304-1765555200-1765569600@7gables.org
SUMMARY:Member Event: A Victorian Christmas
DESCRIPTION:Gables members\, enjoy the festive season at The House of the Seven Gables! \nFor the entirety of the event (4 P.M. to 8 P.M.)\, there will be festive treats\, drinks\, Victorian era games\, and an orange pomander crafts table. The Museum Store will also be open for your holiday shopping! Just stop by any time during the event\, it is free and there’s no registration. \nAt 4:30 P.M.\, there will be a member Christmas Tour! The tour portion of this event is sold out. If you would like to join the waitlist for the tour\, please email development@7gables.org. The rest (festive treats\, drinks\, games\, crafts\, and shopping) is available to all Gables members and their guests and there’s no registration. \nFree for all Gables members and their guests. \n  \nNot a member? Click here to join.
URL:https://7gables.org/event/member-event-a-victorian-christmas/
LOCATION:The House of the Seven Gables\, 115 Derby Street\, Salem\, MA\, 01970\, United States
CATEGORIES:Member and Support Programs
ATTACH;FMTTYPE=image/jpeg:https://7gables.org/wp-content/uploads/2025/12/A-Victorian-Christmas-1920x1080-1.jpg
END:VEVENT
BEGIN:VEVENT
DTSTART;TZID=America/New_York:20251214T130000
DTEND;TZID=America/New_York:20251214T150000
DTSTAMP:20260421T114621
CREATED:20251120T215800Z
LAST-MODIFIED:20251126T200434Z
UID:23261-1765717200-1765724400@7gables.org
SUMMARY:Petrykivka Christmas Ornament Paint & Sip
DESCRIPTION:Learn How to Paint Petrykivka Art on holiday ornaments! You don’t need to be an artist to attend this event. Everyone is welcome. All skill levels! All proceeds go toward Ukrainian humanitarian aid through Dobro New England. \nWhat is Petrykivka? The people of the village of Petrykivka\, Ukraine\, decorate their living quarters\, household belongings\, and musical instruments with a style of ornamental painting that is characterized by fantastic flowers and other natural elements\, based on careful observation of the local flora and fauna. \nEnjoy complimentary wine imported from Ukraine as artist Svitlana Rozghon provides instruction as well as the materials needed for you to make your own Petrykivka art. You will go home with an ornament with your own Petrykivka design on it! \n  \n> Click here to reserve your ticket <
URL:https://7gables.org/event/petrykivka-christmas-ornament-paint-and-sip/
LOCATION:The House of the Seven Gables\, 115 Derby Street\, Salem\, MA\, 01970\, United States
CATEGORIES:Settlement Programming
ATTACH;FMTTYPE=image/jpeg:https://7gables.org/wp-content/uploads/2025/11/PetrykivkaChristmasOrnament_1920x1080.jpg
END:VEVENT
END:VCALENDAR