BEGIN:VCALENDAR
VERSION:2.0
PRODID:-//The House of the Seven Gables - ECPv6.15.20//NONSGML v1.0//EN
CALSCALE:GREGORIAN
METHOD:PUBLISH
X-ORIGINAL-URL:https://7gables.org
X-WR-CALDESC:Events for The House of the Seven Gables
REFRESH-INTERVAL;VALUE=DURATION:PT1H
X-Robots-Tag:noindex
X-PUBLISHED-TTL:PT1H
BEGIN:VTIMEZONE
TZID:America/New_York
BEGIN:DAYLIGHT
TZOFFSETFROM:-0500
TZOFFSETTO:-0400
TZNAME:EDT
DTSTART:20240310T070000
END:DAYLIGHT
BEGIN:STANDARD
TZOFFSETFROM:-0400
TZOFFSETTO:-0500
TZNAME:EST
DTSTART:20241103T060000
END:STANDARD
BEGIN:DAYLIGHT
TZOFFSETFROM:-0500
TZOFFSETTO:-0400
TZNAME:EDT
DTSTART:20250309T070000
END:DAYLIGHT
BEGIN:STANDARD
TZOFFSETFROM:-0400
TZOFFSETTO:-0500
TZNAME:EST
DTSTART:20251102T060000
END:STANDARD
BEGIN:DAYLIGHT
TZOFFSETFROM:-0500
TZOFFSETTO:-0400
TZNAME:EDT
DTSTART:20260308T070000
END:DAYLIGHT
BEGIN:STANDARD
TZOFFSETFROM:-0400
TZOFFSETTO:-0500
TZNAME:EST
DTSTART:20261101T060000
END:STANDARD
END:VTIMEZONE
BEGIN:VEVENT
DTSTART;TZID=America/New_York:20251116T173000
DTEND;TZID=America/New_York:20251116T190000
DTSTAMP:20260421T130643
CREATED:20251015T202041Z
LAST-MODIFIED:20251015T202041Z
UID:23032-1763314200-1763319600@7gables.org
SUMMARY:Member Appreciation Week: Director's Tour
DESCRIPTION:For the first event of Member Appreciation Week 2025\, join your fellow members for a Director’s Tour of The House of the Seven Gables!\n  \nThe Gables’ Executive Director\, Dakota Russell\, will take you through the famous mansion. This tour allows members to take their time in each room\, and ask all the questions they wish! This is also a great opportunity to get to know the Executive Director and learn about his passion for all things “Gables.” \n\nThis is a member only event during Member Appreciation Week. For Gables members only. No guests. \n\n> CLICK HERE TO REGISTER <\n  \nNot a member? Click here to join.
URL:https://7gables.org/event/member-appreciation-week-directors-tour/
LOCATION:The House of the Seven Gables\, 115 Derby Street\, Salem\, MA\, 01970\, United States
CATEGORIES:Member and Support Programs
ATTACH;FMTTYPE=image/jpeg:https://7gables.org/wp-content/uploads/2025/10/Directors-Tour-2025-1920x1080-1.jpg
END:VEVENT
BEGIN:VEVENT
DTSTART;TZID=America/New_York:20251118T180000
DTEND;TZID=America/New_York:20251118T200000
DTSTAMP:20260421T130643
CREATED:20251015T202530Z
LAST-MODIFIED:20251015T205859Z
UID:23037-1763488800-1763496000@7gables.org
SUMMARY:Member Appreciation Week: Reading of the First Chapter in the Parlor
DESCRIPTION:We’re pretty sure we’re correct in saying that this has never been done before! Reading the first chapter of Nathaniel Hawthorne’s The House of the Seven Gables in the said mansion’s parlor!\n\nSit in the same room where Hawthorne got his inspiration for the novel and be immersed in the ambiance of the house. \nThis event is part of Member Appreciation Week and is for Leadership level members only (Patron level and higher). We will have a small group reading the first chapter together aloud. Then we’ll enjoy refreshments and chat about the novel in the Great Room of the Hooper-Hathaway house to conclude the evening. \nFree. For Leadership level Gables members only (Patron level and higher). \n> CLICK HERE TO REGISTER <\n  \nNot a member? Click here to join.
URL:https://7gables.org/event/member-appreciation-reading-of-the-first-chapter/
LOCATION:The House of the Seven Gables\, 115 Derby Street\, Salem\, MA\, 01970\, United States
CATEGORIES:Member and Support Programs
ATTACH;FMTTYPE=image/jpeg:https://7gables.org/wp-content/uploads/2025/10/Reading-of-the-first-chapter-2025-1920x1080-1.jpg
END:VEVENT
BEGIN:VEVENT
DTSTART;TZID=America/New_York:20251120T180000
DTEND;TZID=America/New_York:20251120T193000
DTSTAMP:20260421T130643
CREATED:20251015T203014Z
LAST-MODIFIED:20251114T171235Z
UID:23041-1763661600-1763667000@7gables.org
SUMMARY:Member Appreciation Week: A New Vision for The Birthplace Tour
DESCRIPTION:Gables members have the opportunity to be the first to tour Nathaniel Hawthorne’s Birthplace with Executive Director\, Dakota Russell\, and Collections Manager\, Susan Baker\, and learn of the plans to reimagine the house as The Hawthorne Museum.\n  \nThe House of the Seven Gables is reimaging the visitor experience in Nathaniel Hawthorne’s Birthplace\, taking it from a static furnished house to a dynamic museum that tells Hawthorne’s story. Our team at The Gables is working closely with scholars\, museum design experts\, and descendants to craft an experience that pulls in guests and makes Nathaniel Hawthorne and his work relevant to their lives. \n  \nFree for all Gables Members and their guests. \n\n> CLICK HERE TO REGISTER <\n  \nNot a member? Click here to join.
URL:https://7gables.org/event/member-appreciation-birthplace/
LOCATION:The House of the Seven Gables\, 115 Derby Street\, Salem\, MA\, 01970\, United States
CATEGORIES:Member and Support Programs
ATTACH;FMTTYPE=image/jpeg:https://7gables.org/wp-content/uploads/2025/10/a-new-vision-for-the-birthplace-2025-1920x1080-1.jpg
END:VEVENT
BEGIN:VEVENT
DTSTART;TZID=America/New_York:20251121T180000
DTEND;TZID=America/New_York:20251121T193000
DTSTAMP:20260421T130643
CREATED:20251015T203331Z
LAST-MODIFIED:20251015T203331Z
UID:23048-1763748000-1763753400@7gables.org
SUMMARY:Member Appreciation Week: Gables Movie Night
DESCRIPTION:Gables members! Let’s conclude Member Appreciation Week with a fun movie night!\n  \nEnjoy a screening of the classic 1940 film\, “The House of the Seven Gables”” starring George Sanders\, Margaret Lindsay\, and Vincent Price. Free to all Gables members and their guests. \n\n> CLICK HERE TO REGISTER <\n  \nNot a member? Click here to join.
URL:https://7gables.org/event/member-appreciation-gables-movie-night/
LOCATION:The House of the Seven Gables\, 115 Derby Street\, Salem\, MA\, 01970\, United States
CATEGORIES:Member and Support Programs
ATTACH;FMTTYPE=image/jpeg:https://7gables.org/wp-content/uploads/2025/10/Gables-Movie-Night-2-2025-1920x1080-1.jpg
END:VEVENT
END:VCALENDAR