BEGIN:VCALENDAR
VERSION:2.0
PRODID:-//The House of the Seven Gables - ECPv6.15.20//NONSGML v1.0//EN
CALSCALE:GREGORIAN
METHOD:PUBLISH
X-WR-CALNAME:The House of the Seven Gables
X-ORIGINAL-URL:https://7gables.org
X-WR-CALDESC:Events for The House of the Seven Gables
REFRESH-INTERVAL;VALUE=DURATION:PT1H
X-Robots-Tag:noindex
X-PUBLISHED-TTL:PT1H
BEGIN:VTIMEZONE
TZID:America/New_York
BEGIN:DAYLIGHT
TZOFFSETFROM:-0500
TZOFFSETTO:-0400
TZNAME:EDT
DTSTART:20240310T070000
END:DAYLIGHT
BEGIN:STANDARD
TZOFFSETFROM:-0400
TZOFFSETTO:-0500
TZNAME:EST
DTSTART:20241103T060000
END:STANDARD
BEGIN:DAYLIGHT
TZOFFSETFROM:-0500
TZOFFSETTO:-0400
TZNAME:EDT
DTSTART:20250309T070000
END:DAYLIGHT
BEGIN:STANDARD
TZOFFSETFROM:-0400
TZOFFSETTO:-0500
TZNAME:EST
DTSTART:20251102T060000
END:STANDARD
BEGIN:DAYLIGHT
TZOFFSETFROM:-0500
TZOFFSETTO:-0400
TZNAME:EDT
DTSTART:20260308T070000
END:DAYLIGHT
BEGIN:STANDARD
TZOFFSETFROM:-0400
TZOFFSETTO:-0500
TZNAME:EST
DTSTART:20261101T060000
END:STANDARD
END:VTIMEZONE
BEGIN:VEVENT
DTSTART;TZID=America/New_York:20250820T180000
DTEND;TZID=America/New_York:20250820T200000
DTSTAMP:20260419T133116
CREATED:20250709T175840Z
LAST-MODIFIED:20250709T175840Z
UID:22541-1755712800-1755720000@7gables.org
SUMMARY:Member Event: Clocks in Art Lecture
DESCRIPTION:Back by popular demand!\nAndover clock expert\, Bob Frishman\, is back by popular demand! During the past several years\, Bob has been collecting fine art images which have a clock somewhere in the picture. From Van Gogh to Dali\, Titian\, Homer\, Magritte\, Hopper\, and Rockwell\, these artworks are often familiar to art lovers but have not often been joined together in this way. Digital images will be projected and described in an educational and entertaining combination of art and clock histories. Since we are at The House of the Seven Gables\, Bob will discuss the artist\, the scene\, and the timepiece within the lovely eye-candy iconic artworks from the 18th and 19th century America. \nDirectly after the presentation\, Bob will offer verbal descriptions and “Roadshow” valuations for old clocks and watches brought in by the audience (no battery-powered or plug-ins\, please). For more information about Bob’s forty-plus years as a “horologist”\, studying and practicing the science of timekeeping\, visit www.bell-time.com \nFree for Gables Members. $10 each for Member Guests. \n> CLICK HERE TO REGISTER <\n  \nNot a member? Click here to join.
URL:https://7gables.org/event/member-event-clocks-in-art-lecture/
LOCATION:The House of the Seven Gables\, 115 Derby Street\, Salem\, MA\, 01970\, United States
CATEGORIES:Member and Support Programs
ATTACH;FMTTYPE=image/jpeg:https://7gables.org/wp-content/uploads/2025/07/Clocks-in-Art-Lecture-1920x1080-1.jpg
END:VEVENT
END:VCALENDAR