BEGIN:VCALENDAR
VERSION:2.0
PRODID:-//The House of the Seven Gables - ECPv6.15.20//NONSGML v1.0//EN
CALSCALE:GREGORIAN
METHOD:PUBLISH
X-WR-CALNAME:The House of the Seven Gables
X-ORIGINAL-URL:https://7gables.org
X-WR-CALDESC:Events for The House of the Seven Gables
REFRESH-INTERVAL;VALUE=DURATION:PT1H
X-Robots-Tag:noindex
X-PUBLISHED-TTL:PT1H
BEGIN:VTIMEZONE
TZID:America/New_York
BEGIN:DAYLIGHT
TZOFFSETFROM:-0500
TZOFFSETTO:-0400
TZNAME:EDT
DTSTART:20240310T070000
END:DAYLIGHT
BEGIN:STANDARD
TZOFFSETFROM:-0400
TZOFFSETTO:-0500
TZNAME:EST
DTSTART:20241103T060000
END:STANDARD
BEGIN:DAYLIGHT
TZOFFSETFROM:-0500
TZOFFSETTO:-0400
TZNAME:EDT
DTSTART:20250309T070000
END:DAYLIGHT
BEGIN:STANDARD
TZOFFSETFROM:-0400
TZOFFSETTO:-0500
TZNAME:EST
DTSTART:20251102T060000
END:STANDARD
BEGIN:DAYLIGHT
TZOFFSETFROM:-0500
TZOFFSETTO:-0400
TZNAME:EDT
DTSTART:20260308T070000
END:DAYLIGHT
BEGIN:STANDARD
TZOFFSETFROM:-0400
TZOFFSETTO:-0500
TZNAME:EST
DTSTART:20261101T060000
END:STANDARD
END:VTIMEZONE
BEGIN:VEVENT
DTSTART;TZID=America/New_York:20250810T120000
DTEND;TZID=America/New_York:20250810T170000
DTSTAMP:20260420T061939
CREATED:20250625T183740Z
LAST-MODIFIED:20250625T183740Z
UID:22514-1754827200-1754845200@7gables.org
SUMMARY:Fusion Fest at The Gables
DESCRIPTION:Our third annual Fusion Fest! The House of the Seven Gables Settlement Association was founded to assist newly arriving immigrants to become successful here in the United States. While the groups arriving in Salem have changed over the years\, The Gables’ drive to provide guidance and education has not. We are taking this special day to celebrate the backgrounds and cultures of students in the ESL and Citizenship classes at The House of the Seven Gables and how they have contributed to the growth of such a diverse and colorful city. Entry is free and open to the public! \n  \nJoin us and enjoy a variety of food\, music\, culture\, and more!
URL:https://7gables.org/event/fusion-fest-at-the-gables-2025/
LOCATION:The House of the Seven Gables\, 115 Derby Street\, Salem\, MA\, 01970\, United States
CATEGORIES:Salem Event,Settlement Programming
ATTACH;FMTTYPE=image/jpeg:https://7gables.org/wp-content/uploads/2025/06/Fusion-Fest-2025-1920x1080-1.jpg
END:VEVENT
END:VCALENDAR