BEGIN:VCALENDAR
VERSION:2.0
PRODID:-//The House of the Seven Gables - ECPv6.15.20//NONSGML v1.0//EN
CALSCALE:GREGORIAN
METHOD:PUBLISH
X-WR-CALNAME:The House of the Seven Gables
X-ORIGINAL-URL:https://7gables.org
X-WR-CALDESC:Events for The House of the Seven Gables
REFRESH-INTERVAL;VALUE=DURATION:PT1H
X-Robots-Tag:noindex
X-PUBLISHED-TTL:PT1H
BEGIN:VTIMEZONE
TZID:America/New_York
BEGIN:DAYLIGHT
TZOFFSETFROM:-0500
TZOFFSETTO:-0400
TZNAME:EDT
DTSTART:20230312T070000
END:DAYLIGHT
BEGIN:STANDARD
TZOFFSETFROM:-0400
TZOFFSETTO:-0500
TZNAME:EST
DTSTART:20231105T060000
END:STANDARD
BEGIN:DAYLIGHT
TZOFFSETFROM:-0500
TZOFFSETTO:-0400
TZNAME:EDT
DTSTART:20240310T070000
END:DAYLIGHT
BEGIN:STANDARD
TZOFFSETFROM:-0400
TZOFFSETTO:-0500
TZNAME:EST
DTSTART:20241103T060000
END:STANDARD
BEGIN:DAYLIGHT
TZOFFSETFROM:-0500
TZOFFSETTO:-0400
TZNAME:EDT
DTSTART:20250309T070000
END:DAYLIGHT
BEGIN:STANDARD
TZOFFSETFROM:-0400
TZOFFSETTO:-0500
TZNAME:EST
DTSTART:20251102T060000
END:STANDARD
END:VTIMEZONE
BEGIN:VEVENT
DTSTART;TZID=America/New_York:20241230T183000
DTEND;TZID=America/New_York:20241230T193000
DTSTAMP:20260421T065938
CREATED:20241211T200259Z
LAST-MODIFIED:20241217T212138Z
UID:21547-1735583400-1735587000@7gables.org
SUMMARY:Online Lecture - Christmas in Ukraine: Art\, Traditions\, and Historical Transformations
DESCRIPTION:Join us for an online lecture that takes a closer look at the meaning of Christmas in Ukraine! We will explore beautiful artworks and folk traditions that make this holiday special. You’ll learn about unique pieces of art that show the spirit of Christmas and celebrate Ukrainian culture. \nWe will also discuss a critical time in history when Christmas was banned by Soviet authorities and replaced with New Year’s Eve celebrations. This pivotal moment in history influenced not only religious practices but also cultural expressions\, leading to a complex relationship between tradition and totalitarian state-imposed changes. \nAll funds go to Dobro New England to support humanitarian aid to Ukraine. \nWhether you’re interested in art\, history\, or cultural traditions\, this lecture will provide new insights into Ukraine today. We look forward to seeing you there! \nREGISTER HERE TO RECEIVE GOOGLE MEET LINK
URL:https://7gables.org/event/christmas-in-ukraine/
CATEGORIES:Public Programs,Settlement Programming
ATTACH;FMTTYPE=image/jpeg:https://7gables.org/wp-content/uploads/2024/12/Kovalchuk-Dec302024-1920x1080-1.jpg
END:VEVENT
END:VCALENDAR