BEGIN:VCALENDAR
VERSION:2.0
PRODID:-//The House of the Seven Gables - ECPv6.15.20//NONSGML v1.0//EN
CALSCALE:GREGORIAN
METHOD:PUBLISH
X-ORIGINAL-URL:https://7gables.org
X-WR-CALDESC:Events for The House of the Seven Gables
REFRESH-INTERVAL;VALUE=DURATION:PT1H
X-Robots-Tag:noindex
X-PUBLISHED-TTL:PT1H
BEGIN:VTIMEZONE
TZID:America/New_York
BEGIN:DAYLIGHT
TZOFFSETFROM:-0500
TZOFFSETTO:-0400
TZNAME:EDT
DTSTART:20230312T070000
END:DAYLIGHT
BEGIN:STANDARD
TZOFFSETFROM:-0400
TZOFFSETTO:-0500
TZNAME:EST
DTSTART:20231105T060000
END:STANDARD
BEGIN:DAYLIGHT
TZOFFSETFROM:-0500
TZOFFSETTO:-0400
TZNAME:EDT
DTSTART:20240310T070000
END:DAYLIGHT
BEGIN:STANDARD
TZOFFSETFROM:-0400
TZOFFSETTO:-0500
TZNAME:EST
DTSTART:20241103T060000
END:STANDARD
BEGIN:DAYLIGHT
TZOFFSETFROM:-0500
TZOFFSETTO:-0400
TZNAME:EDT
DTSTART:20250309T070000
END:DAYLIGHT
BEGIN:STANDARD
TZOFFSETFROM:-0400
TZOFFSETTO:-0500
TZNAME:EST
DTSTART:20251102T060000
END:STANDARD
END:VTIMEZONE
BEGIN:VEVENT
DTSTART;TZID=America/New_York:20241126T153000
DTEND;TZID=America/New_York:20241126T160000
DTSTAMP:20260421T082424
CREATED:20241121T180137Z
LAST-MODIFIED:20241121T180940Z
UID:21507-1732635000-1732636800@7gables.org
SUMMARY:Ribbon Cutting: The House of the Seven Gables Immigration & Education Center
DESCRIPTION:Join Mayor Pangallo and the Salem Chamber of Commerce as we celebrate the Grand Opening Ribbon Cutting for The House of the Seven Gables’ new Immigration and Education Center at Shetland Park. Since 1910\, The Gables has been working with immigrant communities on the North Shore. This new space\, funded by a grant from the Cummings Foundation\, will house their classrooms and offices\, and give them room to grow and offer additional services to help people along their immigration and naturalization journeys! \nThe Immigration & Education Center is located in Shetland Park Building 1\, Suite 109\, 27 Congress Street in Salem. The ribbon cutting is free to attend and all are invited.Please RSVP via Facebook. \n> Click here to RSVP <
URL:https://7gables.org/event/ribbon-cutting-immigration-and-education-center/
CATEGORIES:Public Programs,Settlement Programming
ATTACH;FMTTYPE=image/jpeg:https://7gables.org/wp-content/uploads/2024/11/Ribbon-Cutting-1920x1080-1.jpg
END:VEVENT
END:VCALENDAR