BEGIN:VCALENDAR
VERSION:2.0
PRODID:-//The House of the Seven Gables - ECPv6.15.20//NONSGML v1.0//EN
CALSCALE:GREGORIAN
METHOD:PUBLISH
X-WR-CALNAME:The House of the Seven Gables
X-ORIGINAL-URL:https://7gables.org
X-WR-CALDESC:Events for The House of the Seven Gables
REFRESH-INTERVAL;VALUE=DURATION:PT1H
X-Robots-Tag:noindex
X-PUBLISHED-TTL:PT1H
BEGIN:VTIMEZONE
TZID:America/New_York
BEGIN:DAYLIGHT
TZOFFSETFROM:-0500
TZOFFSETTO:-0400
TZNAME:EDT
DTSTART:20250309T070000
END:DAYLIGHT
BEGIN:STANDARD
TZOFFSETFROM:-0400
TZOFFSETTO:-0500
TZNAME:EST
DTSTART:20251102T060000
END:STANDARD
BEGIN:DAYLIGHT
TZOFFSETFROM:-0500
TZOFFSETTO:-0400
TZNAME:EDT
DTSTART:20260308T070000
END:DAYLIGHT
BEGIN:STANDARD
TZOFFSETFROM:-0400
TZOFFSETTO:-0500
TZNAME:EST
DTSTART:20261101T060000
END:STANDARD
BEGIN:DAYLIGHT
TZOFFSETFROM:-0500
TZOFFSETTO:-0400
TZNAME:EDT
DTSTART:20270314T070000
END:DAYLIGHT
BEGIN:STANDARD
TZOFFSETFROM:-0400
TZOFFSETTO:-0500
TZNAME:EST
DTSTART:20271107T060000
END:STANDARD
END:VTIMEZONE
BEGIN:VEVENT
DTSTART;TZID=America/New_York:20260420T100000
DTEND;TZID=America/New_York:20260424T160000
DTSTAMP:20260420T104301
CREATED:20260309T183518Z
LAST-MODIFIED:20260309T183518Z
UID:24070-1776679200-1777046400@7gables.org
SUMMARY:Essex County Days
DESCRIPTION:The House of the Seven Gables is welcoming our neighbors to visit for free this April school vacation with Essex County Days!\n  \nApril 20-24\, families and individuals living in Essex County can visit The Gables on us! Tickets should be purchased in person with a valid ID or recent utility bill with appropriate address within Essex County. Tours are offered at regular intervals throughout the day\, although each has a maximum capacity. Come early and enjoy our grounds in advance of your tour! \n  \nPlease note: The House of the Seven Gables is open 10 A.M. – 4 P.M.
URL:https://7gables.org/event/essex-county-days-2026/
LOCATION:The House of the Seven Gables\, 115 Derby Street\, Salem\, MA\, 01970\, United States
CATEGORIES:Regional Event,Special Admission
ATTACH;FMTTYPE=image/jpeg:https://7gables.org/wp-content/uploads/2026/03/Essex-County-Days-2026-1920x1080-1.jpg
END:VEVENT
END:VCALENDAR